BEGIN:VCALENDAR
VERSION:2.0
PRODID:-//Volksschule Eisteich - ECPv6.1.2.2//NONSGML v1.0//EN
CALSCALE:GREGORIAN
METHOD:PUBLISH
X-WR-CALNAME:Volksschule Eisteich
X-ORIGINAL-URL:https://www.vs-eisteich.at
X-WR-CALDESC:Veranstaltungen für Volksschule Eisteich
REFRESH-INTERVAL;VALUE=DURATION:PT1H
X-Robots-Tag:noindex
X-PUBLISHED-TTL:PT1H
BEGIN:VTIMEZONE
TZID:Europe/Berlin
BEGIN:DAYLIGHT
TZOFFSETFROM:+0100
TZOFFSETTO:+0200
TZNAME:CEST
DTSTART:20240331T010000
END:DAYLIGHT
BEGIN:STANDARD
TZOFFSETFROM:+0200
TZOFFSETTO:+0100
TZNAME:CET
DTSTART:20241027T010000
END:STANDARD
END:VTIMEZONE
BEGIN:VEVENT
DTSTART;TZID=Europe/Berlin:20241003T080000
DTEND;TZID=Europe/Berlin:20241003T113000
DTSTAMP:20260422T155019
CREATED:20241013T183214Z
LAST-MODIFIED:20241013T183214Z
UID:11362-1727942400-1727955000@www.vs-eisteich.at
SUMMARY:Aktion Fisch
DESCRIPTION:3b: 08:00 – 08:50 Uhr\n4b: 08:50 – 09:40 Uhr\n3a: 09:40 – 10:30 Uhr\n4a: 10:30 – 11:20 Uhr
URL:https://www.vs-eisteich.at/termin/aktion-fisch-6/
LOCATION:Union Halle
END:VEVENT
BEGIN:VEVENT
DTSTART;TZID=Europe/Berlin:20241008T080000
DTEND;TZID=Europe/Berlin:20241009T113000
DTSTAMP:20260422T155019
CREATED:20241013T190102Z
LAST-MODIFIED:20241013T190102Z
UID:11379-1728374400-1728473400@www.vs-eisteich.at
SUMMARY:Schulfoto
DESCRIPTION:Fotostudio Meister
URL:https://www.vs-eisteich.at/termin/schulfoto/
LOCATION:Volksschule Eisteich\, Eisteichgasse 14\, Graz\, 8042\, Österreich
END:VEVENT
BEGIN:VEVENT
DTSTART;TZID=Europe/Berlin:20241010T080000
DTEND;TZID=Europe/Berlin:20241010T113000
DTSTAMP:20260422T155019
CREATED:20241013T183331Z
LAST-MODIFIED:20241013T183331Z
UID:11364-1728547200-1728559800@www.vs-eisteich.at
SUMMARY:Aktion Fisch
DESCRIPTION:3b: 08:00 – 08:50 Uhr\n4b: 08:50 – 09:40 Uhr\n3a: 09:40 – 10:30 Uhr\n4a: 10:30 – 11:20 Uhr
URL:https://www.vs-eisteich.at/termin/aktion-fisch-7/
LOCATION:Union Halle
END:VEVENT
BEGIN:VEVENT
DTSTART;TZID=Europe/Berlin:20241014T083000
DTEND;TZID=Europe/Berlin:20241014T110000
DTSTAMP:20260422T155019
CREATED:20241013T185005Z
LAST-MODIFIED:20241013T185148Z
UID:11374-1728894600-1728903600@www.vs-eisteich.at
SUMMARY:"Kindererlebnisraum ENERGIE"
DESCRIPTION:3a: 08:45 – 10:15 Uhr\n3b : 09:15 – 10:45 Uhr
URL:https://www.vs-eisteich.at/termin/kindererlebnisraum-energie/
LOCATION:Center of Excellence
END:VEVENT
BEGIN:VEVENT
DTSTART;TZID=Europe/Berlin:20241015T083000
DTEND;TZID=Europe/Berlin:20241015T110000
DTSTAMP:20260422T155019
CREATED:20241013T185351Z
LAST-MODIFIED:20241013T185351Z
UID:11377-1728981000-1728990000@www.vs-eisteich.at
SUMMARY:"Kindererlebnisraum ENERGIE"
DESCRIPTION:4a: 08:45 – 10:15 Uhr\n4b: 09:15 – 10:45 Uhr
URL:https://www.vs-eisteich.at/termin/kindererlebnisraum-energie-2/
LOCATION:Center of Excellence
END:VEVENT
BEGIN:VEVENT
DTSTART;TZID=Europe/Berlin:20241016T083000
DTEND;TZID=Europe/Berlin:20241016T110000
DTSTAMP:20260422T155019
CREATED:20240903T144100Z
LAST-MODIFIED:20241013T191620Z
UID:11303-1729067400-1729076400@www.vs-eisteich.at
SUMMARY:Tag der offenen Tür 2024
DESCRIPTION:
URL:https://www.vs-eisteich.at/termin/tag-der-offenen-tuer-2024/
LOCATION:Volksschule Eisteich\, Eisteichgasse 14\, Graz\, 8042\, Österreich
END:VEVENT
BEGIN:VEVENT
DTSTART;TZID=Europe/Berlin:20241016T180000
DTEND;TZID=Europe/Berlin:20241016T180000
DTSTAMP:20260422T155019
CREATED:20241013T184236Z
LAST-MODIFIED:20241013T191722Z
UID:11372-1729101600-1729101600@www.vs-eisteich.at
SUMMARY:Elterninformationsabend für künftige Schüler:innen
DESCRIPTION:
URL:https://www.vs-eisteich.at/termin/elterninformationsabend-fuer-kuenftige-schuelerinnen/
LOCATION:Volksschule Eisteich\, Eisteichgasse 14\, Graz\, 8042\, Österreich
END:VEVENT
BEGIN:VEVENT
DTSTART;TZID=Europe/Berlin:20241017T080000
DTEND;TZID=Europe/Berlin:20241017T113000
DTSTAMP:20260422T155019
CREATED:20241013T183441Z
LAST-MODIFIED:20241013T183441Z
UID:11366-1729152000-1729164600@www.vs-eisteich.at
SUMMARY:Aktion Fisch
DESCRIPTION:3b: 08:00 – 08:50 Uhr\n4b: 08:50 – 09:40 Uhr\n3a: 09:40 – 10:30 Uhr\n4a: 10:30 – 11:20 Uhr
URL:https://www.vs-eisteich.at/termin/aktion-fisch-8/
LOCATION:Union Halle
END:VEVENT
BEGIN:VEVENT
DTSTART;TZID=Europe/Berlin:20241024T080000
DTEND;TZID=Europe/Berlin:20241024T113000
DTSTAMP:20260422T155019
CREATED:20241013T183730Z
LAST-MODIFIED:20241013T183730Z
UID:11368-1729756800-1729769400@www.vs-eisteich.at
SUMMARY:Aktion Fisch
DESCRIPTION:3b: 08:00 – 08:50 Uhr\n4b: 08:50 – 09:40 Uhr\n3a: 09:40 – 10:30 Uhr\n4a: 10:30 – 11:20 Uhr
URL:https://www.vs-eisteich.at/termin/aktion-fisch-9/
LOCATION:Union Halle
END:VEVENT
END:VCALENDAR