BEGIN:VCALENDAR
VERSION:2.0
PRODID:-//Volksschule Eisteich - ECPv6.1.2.2//NONSGML v1.0//EN
CALSCALE:GREGORIAN
METHOD:PUBLISH
X-WR-CALNAME:Volksschule Eisteich
X-ORIGINAL-URL:https://www.vs-eisteich.at
X-WR-CALDESC:Veranstaltungen für Volksschule Eisteich
REFRESH-INTERVAL;VALUE=DURATION:PT1H
X-Robots-Tag:noindex
X-PUBLISHED-TTL:PT1H
BEGIN:VTIMEZONE
TZID:Europe/Berlin
BEGIN:DAYLIGHT
TZOFFSETFROM:+0100
TZOFFSETTO:+0200
TZNAME:CEST
DTSTART:20240331T010000
END:DAYLIGHT
BEGIN:STANDARD
TZOFFSETFROM:+0200
TZOFFSETTO:+0100
TZNAME:CET
DTSTART:20241027T010000
END:STANDARD
BEGIN:DAYLIGHT
TZOFFSETFROM:+0100
TZOFFSETTO:+0200
TZNAME:CEST
DTSTART:20250330T010000
END:DAYLIGHT
BEGIN:STANDARD
TZOFFSETFROM:+0200
TZOFFSETTO:+0100
TZNAME:CET
DTSTART:20251026T010000
END:STANDARD
BEGIN:DAYLIGHT
TZOFFSETFROM:+0100
TZOFFSETTO:+0200
TZNAME:CEST
DTSTART:20260329T010000
END:DAYLIGHT
BEGIN:STANDARD
TZOFFSETFROM:+0200
TZOFFSETTO:+0100
TZNAME:CET
DTSTART:20261025T010000
END:STANDARD
END:VTIMEZONE
BEGIN:VEVENT
DTSTART;VALUE=DATE:20260319
DTEND;VALUE=DATE:20260321
DTSTAMP:20260421T111139
CREATED:20260314T111537Z
LAST-MODIFIED:20260314T111537Z
UID:11618-1773878400-1774051199@www.vs-eisteich.at
SUMMARY:Landespatron Steiermark (Hl. Josef) & schulautonomer Tag
DESCRIPTION:schulfreie Tage
URL:https://www.vs-eisteich.at/termin/landespatron-steiermark-hl-josef-schulautonomer-tag/
END:VEVENT
BEGIN:VEVENT
DTSTART;TZID=Europe/Berlin:20251107T143000
DTEND;TZID=Europe/Berlin:20251107T180000
DTSTAMP:20260421T111139
CREATED:20251018T094923Z
LAST-MODIFIED:20251018T094923Z
UID:11554-1762525800-1762538400@www.vs-eisteich.at
SUMMARY:Maronifest
DESCRIPTION:
URL:https://www.vs-eisteich.at/termin/maronifest-3/
LOCATION:Volksschule Eisteich\, Eisteichgasse 14\, Graz\, 8042\, Österreich
END:VEVENT
BEGIN:VEVENT
DTSTART;TZID=Europe/Berlin:20251106T080000
DTEND;TZID=Europe/Berlin:20251106T112000
DTSTAMP:20260421T111139
CREATED:20250929T171934Z
LAST-MODIFIED:20250929T171934Z
UID:11551-1762416000-1762428000@www.vs-eisteich.at
SUMMARY:Aktion Fisch
DESCRIPTION:08:00 – 08:50 Uhr\n08:50 – 09:40 Uhr\n09:40 – 10:30 Uhr\n10:30 – 11:20 Uhr
URL:https://www.vs-eisteich.at/termin/aktion-fisch-15/
LOCATION:Union Halle
END:VEVENT
BEGIN:VEVENT
DTSTART;TZID=Europe/Berlin:20251023T080000
DTEND;TZID=Europe/Berlin:20251023T112000
DTSTAMP:20260421T111139
CREATED:20250929T171831Z
LAST-MODIFIED:20250929T171831Z
UID:11549-1761206400-1761218400@www.vs-eisteich.at
SUMMARY:Aktion Fisch
DESCRIPTION:08:00 – 08:50 Uhr\n08:50 – 09:40 Uhr\n09:40 – 10:30 Uhr\n10:30 – 11:20 Uhr
URL:https://www.vs-eisteich.at/termin/aktion-fisch-14/
LOCATION:Union Halle
END:VEVENT
BEGIN:VEVENT
DTSTART;TZID=Europe/Berlin:20251021T083000
DTEND;TZID=Europe/Berlin:20251021T110000
DTSTAMP:20260421T111139
CREATED:20250927T113933Z
LAST-MODIFIED:20250927T113933Z
UID:11539-1761035400-1761044400@www.vs-eisteich.at
SUMMARY:Tag der offenen Tür 2025
DESCRIPTION:
URL:https://www.vs-eisteich.at/termin/tag-der-offenen-tuer-2025/
LOCATION:Volksschule Eisteich\, Eisteichgasse 14\, Graz\, 8042\, Österreich
END:VEVENT
BEGIN:VEVENT
DTSTART;TZID=Europe/Berlin:20251020T180000
DTEND;TZID=Europe/Berlin:20251020T190000
DTSTAMP:20260421T111139
CREATED:20250927T113822Z
LAST-MODIFIED:20250927T113822Z
UID:11537-1760983200-1760986800@www.vs-eisteich.at
SUMMARY:Elterninformationsabend für künftige Schüler:innen
DESCRIPTION:
URL:https://www.vs-eisteich.at/termin/elterninformationsabend-fuer-kuenftige-schuelerinnen-2/
LOCATION:Volksschule Eisteich\, Eisteichgasse 14\, Graz\, 8042\, Österreich
END:VEVENT
BEGIN:VEVENT
DTSTART;TZID=Europe/Berlin:20251016T080000
DTEND;TZID=Europe/Berlin:20251016T112000
DTSTAMP:20260421T111139
CREATED:20250929T171714Z
LAST-MODIFIED:20250929T171714Z
UID:11547-1760601600-1760613600@www.vs-eisteich.at
SUMMARY:Aktion Fisch
DESCRIPTION:08:00 – 08:50 Uhr\n08:50 – 09:40 Uhr\n09:40 – 10:30 Uhr\n10:30 – 11:20 Uhr
URL:https://www.vs-eisteich.at/termin/aktion-fisch-13/
LOCATION:Union Halle
END:VEVENT
BEGIN:VEVENT
DTSTART;TZID=Europe/Berlin:20251009T080000
DTEND;TZID=Europe/Berlin:20251009T112000
DTSTAMP:20260421T111139
CREATED:20250929T171549Z
LAST-MODIFIED:20250929T171549Z
UID:11545-1759996800-1760008800@www.vs-eisteich.at
SUMMARY:Aktion Fisch
DESCRIPTION:08:00 – 08:50 Uhr\n08:50 – 09:40 Uhr\n09:40 – 10:30 Uhr\n10:30 – 11:20 Uhr
URL:https://www.vs-eisteich.at/termin/aktion-fisch-12/
LOCATION:Union Halle
END:VEVENT
BEGIN:VEVENT
DTSTART;TZID=Europe/Berlin:20251002T080000
DTEND;TZID=Europe/Berlin:20251002T112000
DTSTAMP:20260421T111139
CREATED:20250929T171432Z
LAST-MODIFIED:20250929T171432Z
UID:11543-1759392000-1759404000@www.vs-eisteich.at
SUMMARY:Aktion Fisch
DESCRIPTION:08:00 – 08:50 Uhr\n08:50 – 09:40 Uhr\n09:40 – 10:30 Uhr\n10:30 – 11:20 Uhr
URL:https://www.vs-eisteich.at/termin/aktion-fisch-11/
LOCATION:Union Halle
END:VEVENT
BEGIN:VEVENT
DTSTART;TZID=Europe/Berlin:20250627T143000
DTEND;TZID=Europe/Berlin:20250627T200000
DTSTAMP:20260421T111139
CREATED:20250625T173003Z
LAST-MODIFIED:20250626T193938Z
UID:11464-1751034600-1751054400@www.vs-eisteich.at
SUMMARY:Sommerfest
DESCRIPTION:
URL:https://www.vs-eisteich.at/termin/sommerfest-3/
LOCATION:Volksschule Eisteich\, Eisteichgasse 14\, Graz\, 8042\, Österreich
END:VEVENT
BEGIN:VEVENT
DTSTART;TZID=Europe/Berlin:20241126T151000
DTEND;TZID=Europe/Berlin:20241126T181000
DTSTAMP:20260421T111139
CREATED:20241113T204401Z
LAST-MODIFIED:20241113T204401Z
UID:11405-1732633800-1732644600@www.vs-eisteich.at
SUMMARY:Elternsprechtag
DESCRIPTION:
URL:https://www.vs-eisteich.at/termin/elternsprechtag-4/
LOCATION:Volksschule Eisteich\, Eisteichgasse 14\, Graz\, 8042\, Österreich
END:VEVENT
BEGIN:VEVENT
DTSTART;TZID=Europe/Berlin:20241107T080000
DTEND;TZID=Europe/Berlin:20241107T113000
DTSTAMP:20260421T111139
CREATED:20241013T183946Z
LAST-MODIFIED:20241013T183946Z
UID:11370-1730966400-1730979000@www.vs-eisteich.at
SUMMARY:Aktion Fisch
DESCRIPTION:3b: 08:00 – 08:50 Uhr\n4b: 08:50 – 09:40 Uhr\n3a: 09:40 – 10:30 Uhr\n4a: 10:30 – 11:20 Uhr
URL:https://www.vs-eisteich.at/termin/aktion-fisch-10/
LOCATION:Union Halle
END:VEVENT
BEGIN:VEVENT
DTSTART;TZID=Europe/Berlin:20241024T080000
DTEND;TZID=Europe/Berlin:20241024T113000
DTSTAMP:20260421T111139
CREATED:20241013T183730Z
LAST-MODIFIED:20241013T183730Z
UID:11368-1729756800-1729769400@www.vs-eisteich.at
SUMMARY:Aktion Fisch
DESCRIPTION:3b: 08:00 – 08:50 Uhr\n4b: 08:50 – 09:40 Uhr\n3a: 09:40 – 10:30 Uhr\n4a: 10:30 – 11:20 Uhr
URL:https://www.vs-eisteich.at/termin/aktion-fisch-9/
LOCATION:Union Halle
END:VEVENT
BEGIN:VEVENT
DTSTART;TZID=Europe/Berlin:20241017T080000
DTEND;TZID=Europe/Berlin:20241017T113000
DTSTAMP:20260421T111139
CREATED:20241013T183441Z
LAST-MODIFIED:20241013T183441Z
UID:11366-1729152000-1729164600@www.vs-eisteich.at
SUMMARY:Aktion Fisch
DESCRIPTION:3b: 08:00 – 08:50 Uhr\n4b: 08:50 – 09:40 Uhr\n3a: 09:40 – 10:30 Uhr\n4a: 10:30 – 11:20 Uhr
URL:https://www.vs-eisteich.at/termin/aktion-fisch-8/
LOCATION:Union Halle
END:VEVENT
BEGIN:VEVENT
DTSTART;TZID=Europe/Berlin:20241016T180000
DTEND;TZID=Europe/Berlin:20241016T180000
DTSTAMP:20260421T111139
CREATED:20241013T184236Z
LAST-MODIFIED:20241013T191722Z
UID:11372-1729101600-1729101600@www.vs-eisteich.at
SUMMARY:Elterninformationsabend für künftige Schüler:innen
DESCRIPTION:
URL:https://www.vs-eisteich.at/termin/elterninformationsabend-fuer-kuenftige-schuelerinnen/
LOCATION:Volksschule Eisteich\, Eisteichgasse 14\, Graz\, 8042\, Österreich
END:VEVENT
BEGIN:VEVENT
DTSTART;TZID=Europe/Berlin:20241016T083000
DTEND;TZID=Europe/Berlin:20241016T110000
DTSTAMP:20260421T111139
CREATED:20240903T144100Z
LAST-MODIFIED:20241013T191620Z
UID:11303-1729067400-1729076400@www.vs-eisteich.at
SUMMARY:Tag der offenen Tür 2024
DESCRIPTION:
URL:https://www.vs-eisteich.at/termin/tag-der-offenen-tuer-2024/
LOCATION:Volksschule Eisteich\, Eisteichgasse 14\, Graz\, 8042\, Österreich
END:VEVENT
BEGIN:VEVENT
DTSTART;TZID=Europe/Berlin:20241015T083000
DTEND;TZID=Europe/Berlin:20241015T110000
DTSTAMP:20260421T111139
CREATED:20241013T185351Z
LAST-MODIFIED:20241013T185351Z
UID:11377-1728981000-1728990000@www.vs-eisteich.at
SUMMARY:"Kindererlebnisraum ENERGIE"
DESCRIPTION:4a: 08:45 – 10:15 Uhr\n4b: 09:15 – 10:45 Uhr
URL:https://www.vs-eisteich.at/termin/kindererlebnisraum-energie-2/
LOCATION:Center of Excellence
END:VEVENT
BEGIN:VEVENT
DTSTART;TZID=Europe/Berlin:20241014T083000
DTEND;TZID=Europe/Berlin:20241014T110000
DTSTAMP:20260421T111139
CREATED:20241013T185005Z
LAST-MODIFIED:20241013T185148Z
UID:11374-1728894600-1728903600@www.vs-eisteich.at
SUMMARY:"Kindererlebnisraum ENERGIE"
DESCRIPTION:3a: 08:45 – 10:15 Uhr\n3b : 09:15 – 10:45 Uhr
URL:https://www.vs-eisteich.at/termin/kindererlebnisraum-energie/
LOCATION:Center of Excellence
END:VEVENT
BEGIN:VEVENT
DTSTART;TZID=Europe/Berlin:20241010T080000
DTEND;TZID=Europe/Berlin:20241010T113000
DTSTAMP:20260421T111139
CREATED:20241013T183331Z
LAST-MODIFIED:20241013T183331Z
UID:11364-1728547200-1728559800@www.vs-eisteich.at
SUMMARY:Aktion Fisch
DESCRIPTION:3b: 08:00 – 08:50 Uhr\n4b: 08:50 – 09:40 Uhr\n3a: 09:40 – 10:30 Uhr\n4a: 10:30 – 11:20 Uhr
URL:https://www.vs-eisteich.at/termin/aktion-fisch-7/
LOCATION:Union Halle
END:VEVENT
BEGIN:VEVENT
DTSTART;TZID=Europe/Berlin:20241008T080000
DTEND;TZID=Europe/Berlin:20241009T113000
DTSTAMP:20260421T111139
CREATED:20241013T190102Z
LAST-MODIFIED:20241013T190102Z
UID:11379-1728374400-1728473400@www.vs-eisteich.at
SUMMARY:Schulfoto
DESCRIPTION:Fotostudio Meister
URL:https://www.vs-eisteich.at/termin/schulfoto/
LOCATION:Volksschule Eisteich\, Eisteichgasse 14\, Graz\, 8042\, Österreich
END:VEVENT
BEGIN:VEVENT
DTSTART;TZID=Europe/Berlin:20241003T080000
DTEND;TZID=Europe/Berlin:20241003T113000
DTSTAMP:20260421T111139
CREATED:20241013T183214Z
LAST-MODIFIED:20241013T183214Z
UID:11362-1727942400-1727955000@www.vs-eisteich.at
SUMMARY:Aktion Fisch
DESCRIPTION:3b: 08:00 – 08:50 Uhr\n4b: 08:50 – 09:40 Uhr\n3a: 09:40 – 10:30 Uhr\n4a: 10:30 – 11:20 Uhr
URL:https://www.vs-eisteich.at/termin/aktion-fisch-6/
LOCATION:Union Halle
END:VEVENT
BEGIN:VEVENT
DTSTART;TZID=Europe/Berlin:20240702T074500
DTEND;TZID=Europe/Berlin:20240702T114000
DTSTAMP:20260421T111139
CREATED:20240605T100424Z
LAST-MODIFIED:20240605T101607Z
UID:11236-1719906300-1719920400@www.vs-eisteich.at
SUMMARY:Workshop "Abenteuer Liebe"  4A/4B
DESCRIPTION:
URL:https://www.vs-eisteich.at/termin/workshop-abenteuer-liebe-4a-4b-2/
END:VEVENT
BEGIN:VEVENT
DTSTART;TZID=Europe/Berlin:20240628T074500
DTEND;TZID=Europe/Berlin:20240628T123500
DTSTAMP:20260421T111139
CREATED:20240605T100109Z
LAST-MODIFIED:20240605T102116Z
UID:11234-1719560700-1719578100@www.vs-eisteich.at
SUMMARY:Workshop "Abenteuer Liebe"  4A/4B
DESCRIPTION:
URL:https://www.vs-eisteich.at/termin/workshop-abenteuer-liebe-4a-4b/
END:VEVENT
BEGIN:VEVENT
DTSTART;TZID=Europe/Berlin:20240624T180000
DTEND;TZID=Europe/Berlin:20240624T193000
DTSTAMP:20260421T111139
CREATED:20240605T095832Z
LAST-MODIFIED:20240605T095832Z
UID:11231-1719252000-1719257400@www.vs-eisteich.at
SUMMARY:Elternabend für Schulanfänger:innen
DESCRIPTION:
URL:https://www.vs-eisteich.at/termin/elternabend-fuer-schulanfaengerinnen/
END:VEVENT
BEGIN:VEVENT
DTSTART;TZID=Europe/Berlin:20240621T090000
DTEND;TZID=Europe/Berlin:20240621T123500
DTSTAMP:20260421T111139
CREATED:20240605T092542Z
LAST-MODIFIED:20240605T092542Z
UID:11229-1718960400-1718973300@www.vs-eisteich.at
SUMMARY:UNESCO Tag der VS Eisteich
DESCRIPTION:Schloß Eggenberg \n 
URL:https://www.vs-eisteich.at/termin/unesco-tag-der-vs-eisteich/
END:VEVENT
BEGIN:VEVENT
DTSTART;TZID=Europe/Berlin:20240618T141500
DTEND;TZID=Europe/Berlin:20240618T161500
DTSTAMP:20260421T111139
CREATED:20240605T085201Z
LAST-MODIFIED:20240605T085841Z
UID:11198-1718720100-1718727300@www.vs-eisteich.at
SUMMARY:Kinderrechte - Workshop 3A
DESCRIPTION:3A Klasse
URL:https://www.vs-eisteich.at/termin/kinderrechteworkshop-3a/
END:VEVENT
BEGIN:VEVENT
DTSTART;TZID=Europe/Berlin:20240614T143000
DTEND;TZID=Europe/Berlin:20240614T200000
DTSTAMP:20260421T111139
CREATED:20240605T074153Z
LAST-MODIFIED:20240605T074153Z
UID:11184-1718375400-1718395200@www.vs-eisteich.at
SUMMARY:Sommerfest
DESCRIPTION:
URL:https://www.vs-eisteich.at/termin/sommerfest-2/
LOCATION:Volksschule Eisteich\, Eisteichgasse 14\, Graz\, 8042\, Österreich
END:VEVENT
BEGIN:VEVENT
DTSTART;TZID=Europe/Berlin:20240611T150000
DTEND;TZID=Europe/Berlin:20240611T170000
DTSTAMP:20260421T111139
CREATED:20240605T092036Z
LAST-MODIFIED:20240605T092051Z
UID:11215-1718118000-1718125200@www.vs-eisteich.at
SUMMARY:3. Laufcup
DESCRIPTION:Stadtpark
URL:https://www.vs-eisteich.at/termin/3-laufcup-3/
END:VEVENT
BEGIN:VEVENT
DTSTART;TZID=Europe/Berlin:20240607T080000
DTEND;TZID=Europe/Berlin:20240607T123500
DTSTAMP:20260421T111139
CREATED:20240605T083325Z
LAST-MODIFIED:20240605T083325Z
UID:11187-1717747200-1717763700@www.vs-eisteich.at
SUMMARY:Zivilschutztag 4A /4B
DESCRIPTION://
URL:https://www.vs-eisteich.at/termin/zivilschutztag-4a-4b/
LOCATION:Volksschule Eisteich\, Eisteichgasse 14\, Graz\, 8042\, Österreich
END:VEVENT
BEGIN:VEVENT
DTSTART;TZID=Europe/Berlin:20240606T080000
DTEND;TZID=Europe/Berlin:20240606T120000
DTSTAMP:20260421T111139
CREATED:20240605T084443Z
LAST-MODIFIED:20240605T084443Z
UID:11196-1717660800-1717675200@www.vs-eisteich.at
SUMMARY:Markttag 4A/4B
DESCRIPTION:Universitätsbibliothek
URL:https://www.vs-eisteich.at/termin/markttag-4a-4b/
END:VEVENT
END:VCALENDAR