BEGIN:VCALENDAR
VERSION:2.0
PRODID:-//Volksschule Eisteich - ECPv6.1.2.2//NONSGML v1.0//EN
CALSCALE:GREGORIAN
METHOD:PUBLISH
X-WR-CALNAME:Volksschule Eisteich
X-ORIGINAL-URL:https://www.vs-eisteich.at
X-WR-CALDESC:Veranstaltungen für Volksschule Eisteich
REFRESH-INTERVAL;VALUE=DURATION:PT1H
X-Robots-Tag:noindex
X-PUBLISHED-TTL:PT1H
BEGIN:VTIMEZONE
TZID:Europe/Berlin
BEGIN:DAYLIGHT
TZOFFSETFROM:+0100
TZOFFSETTO:+0200
TZNAME:CEST
DTSTART:20240331T010000
END:DAYLIGHT
BEGIN:STANDARD
TZOFFSETFROM:+0200
TZOFFSETTO:+0100
TZNAME:CET
DTSTART:20241027T010000
END:STANDARD
END:VTIMEZONE
BEGIN:VEVENT
DTSTART;TZID=Europe/Berlin:20240611T150000
DTEND;TZID=Europe/Berlin:20240611T170000
DTSTAMP:20260422T230445
CREATED:20240605T092036Z
LAST-MODIFIED:20240605T092051Z
UID:11215-1718118000-1718125200@www.vs-eisteich.at
SUMMARY:3. Laufcup
DESCRIPTION:Stadtpark
URL:https://www.vs-eisteich.at/termin/3-laufcup-3/
END:VEVENT
END:VCALENDAR